BEGIN:VCALENDAR
VERSION:2.0
PRODID:-//OmniMagnetCalendar//EN
BEGIN:VEVENT
DTSTAMP:20190625T195740Z
STATUS:CONFIRMED
UID:hcpalmbeaches.clubs.harvard.edu768
DTSTART:20251113T230000Z
DTEND:20251114T010000Z
LOCATION:Tideline Ocean Resort, 2842 South Ocean Blvd, Palm Beach, FL, 33480, US,
SUMMARY:Crimson Conversations - Private Tasting of the Secret Recipe to America's Oldest Cocktail
DESCRIPTION:Join us for a tasting of Fish House Punch, made from the formula unearthed by Christian D’Andrea, AB '94. He'll also shed light on the colorful history of the fabled elixir. It’ll be a lively evening of history that you can taste!
BEGIN:VALARM
TRIGGER:-PT15M
ACTION:DISPLAY
END:VALARM
TRANSP:OPAQUE
END:VEVENT
END:VCALENDAR
