BEGIN:VCALENDAR
VERSION:2.0
PRODID:-//OmniMagnetCalendar//EN
BEGIN:VEVENT
DTSTAMP:20190625T195740Z
STATUS:CONFIRMED
UID:hcpalmbeaches.clubs.harvard.edu769
DTSTART:20251122T163000Z
DTEND:20251122T200000Z
LOCATION:Irish Brigade , 621 Lake Avenue, Lake Worth, FL, 33460,
SUMMARY:"THE GAME" Palm Beach Watch Party at the Irish Brigade
DESCRIPTION:Show your spirit and roar for the Crimson as they square off against Yale in a showdown that defines the season! Undefeated Harvard is guaranteed to at least share the Ivy League title, but can they take it all for themselves?
BEGIN:VALARM
TRIGGER:-PT15M
ACTION:DISPLAY
END:VALARM
TRANSP:OPAQUE
END:VEVENT
END:VCALENDAR
