BEGIN:VCALENDAR
VERSION:2.0
PRODID:-//OmniMagnetCalendar//EN
BEGIN:VEVENT
DTSTAMP:20190625T195740Z
STATUS:CONFIRMED
UID:hcpalmbeaches.clubs.harvard.edu794
DTSTART:20260226T230000Z
DTEND:20260227T010000Z
LOCATION:National Croquet Center, 700 Florida Mango Road, West Palm Beach, FL, 33406, USA,
SUMMARY:Yale Club of the Palm Beaches Event: An Evening with Professor Barry Nalebuff
DESCRIPTION:Join the Yale Club for an Evening with Professor Barry Nalebuff: Game Theory, Strategy, and Entrepreneurship in the Real World.
BEGIN:VALARM
TRIGGER:-PT15M
ACTION:DISPLAY
END:VALARM
TRANSP:OPAQUE
END:VEVENT
END:VCALENDAR
